BEGIN:VCALENDAR
VERSION:2.0
PRODID:-//hacksw/handcal//NONSGML v1.0//EN
BEGIN:VEVENT
UID:11bff3193c016f4f695304ccf70d3c62pyrokontrol.cz
DTSTAMP:20260425T150551Z
DTSTART;VALUE=DATE:20170116
SUMMARY:Kurz pro revizní techniky VTZE
DESCRIPTION:
END:VEVENT
END:VCALENDAR