BEGIN:VCALENDAR
VERSION:2.0
PRODID:-//hacksw/handcal//NONSGML v1.0//EN
BEGIN:VEVENT
UID:ea87339de440eb456719e2798d237ae9pyrokontrol.cz
DTSTAMP:20260425T150313Z
DTSTART;VALUE=DATE:20171212
SUMMARY:Kurz pro revizní techniky VTZE
DESCRIPTION:
END:VEVENT
END:VCALENDAR