BEGIN:VCALENDAR
VERSION:2.0
PRODID:-//hacksw/handcal//NONSGML v1.0//EN
BEGIN:VEVENT
UID:58d15f640131ece273918e5f49490c36pyrokontrol.cz
DTSTAMP:20260425T150313Z
DTSTART;VALUE=DATE:20180510
SUMMARY:Kurz pro revizní techniky VTZE
DESCRIPTION:
END:VEVENT
END:VCALENDAR