BEGIN:VCALENDAR
VERSION:2.0
PRODID:-//hacksw/handcal//NONSGML v1.0//EN
BEGIN:VEVENT
UID:1d39a6b57d18c6aa4fe868b0ac4add87pyrokontrol.cz
DTSTAMP:20260425T181830Z
DTSTART;VALUE=DATE:20180619
SUMMARY:Trestně právní odpovědnost zaměstnanců
DESCRIPTION:
END:VEVENT
END:VCALENDAR