BEGIN:VCALENDAR
VERSION:2.0
PRODID:-//hacksw/handcal//NONSGML v1.0//EN
BEGIN:VEVENT
UID:b563251116f4b6f43d3b3c971efb2721pyrokontrol.cz
DTSTAMP:20260425T170221Z
DTSTART;VALUE=DATE:20180712
SUMMARY:Trestně právní odpovědnost zaměstnanců
DESCRIPTION:
END:VEVENT
END:VCALENDAR