BEGIN:VCALENDAR
VERSION:2.0
PRODID:-//hacksw/handcal//NONSGML v1.0//EN
BEGIN:VEVENT
UID:f12d3b8809a5002fdd75f34a1c06af36pyrokontrol.cz
DTSTAMP:20260425T182748Z
DTSTART;VALUE=DATE:20181004
SUMMARY:Odborná příprava preventistů požární ochrany
DESCRIPTION:
END:VEVENT
END:VCALENDAR