BEGIN:VCALENDAR
VERSION:2.0
PRODID:-//hacksw/handcal//NONSGML v1.0//EN
BEGIN:VEVENT
UID:aae4cd7eacd95ddfd670496af5a4b865pyrokontrol.cz
DTSTAMP:20260425T170238Z
DTSTART;VALUE=DATE:20181005
SUMMARY:Trestně právní odpovědnost zaměstnanců
DESCRIPTION:
END:VEVENT
END:VCALENDAR