BEGIN:VCALENDAR
VERSION:2.0
PRODID:-//hacksw/handcal//NONSGML v1.0//EN
BEGIN:VEVENT
UID:8b5e4a6e98938fc7a5f151d883532f78pyrokontrol.cz
DTSTAMP:20260425T155417Z
DTSTART;VALUE=DATE:20220927
SUMMARY:Provoz VTZ podle nové legislativy
DESCRIPTION:
END:VEVENT
END:VCALENDAR