BEGIN:VCALENDAR
VERSION:2.0
PRODID:-//hacksw/handcal//NONSGML v1.0//EN
BEGIN:VEVENT
UID:797bd56095fc3191dd010c8b2c5444bbpyrokontrol.cz
DTSTAMP:20260425T155358Z
DTSTART;VALUE=DATE:20221124
SUMMARY:Provoz VTZ podle nové legislativy
DESCRIPTION:
END:VEVENT
END:VCALENDAR