BEGIN:VCALENDAR
VERSION:2.0
PRODID:-//hacksw/handcal//NONSGML v1.0//EN
BEGIN:VEVENT
UID:0e4dbd5e9fdea9f01d7a341bbf38b176pyrokontrol.cz
DTSTAMP:20260421T104744Z
DTSTART;VALUE=DATE:20260612
SUMMARY:Školitel obsluh vozíků s vlastním pohonem
DESCRIPTION:
END:VEVENT
END:VCALENDAR